BEGIN:VCALENDAR
VERSION:2.0
PRODID:-//Hope AMC - ECPv6.15.17.1//NONSGML v1.0//EN
CALSCALE:GREGORIAN
METHOD:PUBLISH
X-WR-CALNAME:Hope AMC
X-ORIGINAL-URL:https://www.hope-amc.com
X-WR-CALDESC:Events for Hope AMC
REFRESH-INTERVAL;VALUE=DURATION:PT1H
X-Robots-Tag:noindex
X-PUBLISHED-TTL:PT1H
BEGIN:VTIMEZONE
TZID:Asia/Dubai
BEGIN:STANDARD
TZOFFSETFROM:+0400
TZOFFSETTO:+0400
TZNAME:+04
DTSTART:20200101T000000
END:STANDARD
END:VTIMEZONE
BEGIN:VEVENT
DTSTART;TZID=Asia/Dubai:20210420T163000
DTEND;TZID=Asia/Dubai:20210420T180000
DTSTAMP:20260424T132810
CREATED:20210411T074205Z
LAST-MODIFIED:20210625T134540Z
UID:4105-1618936200-1618941600@www.hope-amc.com
SUMMARY:BENEFITS OF HYDROTHERAPY FOR AUTISM  PARENT WORKSHOP
DESCRIPTION:Autism is a developmental disorder that affects communication and social skills. Children also have certain sensory issues that affect their daily life skills. \nAquatic therapy has shown to help children with autism as it provides them with an outlet to channelize their sensory needs\, improve motor skills\, improve their danger awareness and cognition. \nAlso\, it teaches them lifesaving skills and it’s just plain fun!! \nIn the webinar\, we are going to understand how we can go ahead and gain the maximum advantage of water for our children having autism. \nParticipants: Parents & Professionals. \nPlease register on info@hope-amc.com
URL:https://www.hope-amc.com/event/benefits-of-hydrotherapy-for-autism-parent-workshop/
LOCATION:Online – Microsoft Teams
CATEGORIES:Therapy,Virtual Event
ATTACH;FMTTYPE=image/png:https://www.hope-amc.com/wp-content/uploads/2021/04/Event-Hydro.png
END:VEVENT
END:VCALENDAR