BEGIN:VCALENDAR
VERSION:2.0
PRODID:-//Hope AMC - ECPv6.15.17.1//NONSGML v1.0//EN
CALSCALE:GREGORIAN
METHOD:PUBLISH
X-WR-CALNAME:Hope AMC
X-ORIGINAL-URL:https://www.hope-amc.com
X-WR-CALDESC:Events for Hope AMC
REFRESH-INTERVAL;VALUE=DURATION:PT1H
X-Robots-Tag:noindex
X-PUBLISHED-TTL:PT1H
BEGIN:VTIMEZONE
TZID:Asia/Dubai
BEGIN:STANDARD
TZOFFSETFROM:+0400
TZOFFSETTO:+0400
TZNAME:+04
DTSTART:20210101T000000
END:STANDARD
END:VTIMEZONE
BEGIN:VEVENT
DTSTART;TZID=Asia/Dubai:20240919T190000
DTEND;TZID=Asia/Dubai:20240919T200000
DTSTAMP:20260424T035704
CREATED:20241008T114042Z
LAST-MODIFIED:20241008T114157Z
UID:8131-1726772400-1726776000@www.hope-amc.com
SUMMARY:Healing the Gut brain
DESCRIPTION:Healing the Gut brain
URL:https://www.hope-amc.com/event/healing-the-gut-brain/
LOCATION:YouTube
CATEGORIES:YouTube
ATTACH;FMTTYPE=image/jpeg:https://www.hope-amc.com/wp-content/uploads/2024/10/healing-the-gut-brain.jpeg
END:VEVENT
BEGIN:VEVENT
DTSTART;TZID=Asia/Dubai:20221022T080000
DTEND;TZID=Asia/Dubai:20221022T170000
DTSTAMP:20260424T035704
CREATED:20221025T051603Z
LAST-MODIFIED:20221025T051804Z
UID:5902-1666425600-1666458000@www.hope-amc.com
SUMMARY:Lets talk Spinal muscular atrophy (SMA)
DESCRIPTION:Join us while we talk about different types of SMA\, new research\, Gene replacement therapy\, and Intensive therapy.
URL:https://www.hope-amc.com/event/lets-talk-spinal-muscular-atrophy-sma/
LOCATION:YouTube
CATEGORIES:YouTube
ATTACH;FMTTYPE=image/jpeg:https://www.hope-amc.com/wp-content/uploads/2022/10/WhatsApp-Image-2022-10-23-at-2.07.52-PM.jpeg
END:VEVENT
END:VCALENDAR